BEGIN:VCALENDAR
VERSION:2.0
PRODID:icalendar-ruby
CALSCALE:GREGORIAN
METHOD:PUBLISH
BEGIN:VEVENT
DTSTAMP:20260424T153319Z
UID:8-229351@gatheringchurchfl.org
DTSTART:20260927T133000Z
DTEND:20260927T144500Z
CLASS:PUBLIC
CREATED:20260424T084617
DESCRIPTION:
LAST-MODIFIED:20260424T084617
LOCATION:705 Harrison St
SUMMARY:Sunday Gathering
URL;VALUE=URI:https://www.gatheringchurchfl.org/events/sunday-gathering/202
 6-09-27
ATTACH;FILENAME=TGC_8_31_25-26.jpg;FMTTYPE=image/jpeg:https://dq5pwpg1q8ru0
 .cloudfront.net/2025/09/04/03/01/49/7ea0be74-ffbf-43cf-80c8-aa1b2a884339/T
 GC_8_31_25-26.jpg
END:VEVENT
END:VCALENDAR
